BEGIN:VCALENDAR
VERSION:2.0
METHOD:PUBLISH
X-WR-CALNAME: Calendario | CIDAC
PRODID:-//Drupal iCal API//EN
BEGIN:VEVENT
UID:calendar.1447.changed.0.0
SUMMARY:Mesa Redonda - “Pueblos indígenas\, reconocimientos\, deudas pendientes y  \n futuros posibles”
DTSTAMP:20260422T195138Z
DTSTART:20260422T205902Z
DTEND:20260422T205902Z
URL;VALUE=URI:https://cidac.filo.uba.ar/evento/mesa-redonda-%E2%80%9Cpueblos-ind%C3%ADgenas-reconocimientos-deudas-pendientes-y-futuros-posibles%E2%80%9D
END:VEVENT
END:VCALENDAR
